BEGIN:VCALENDAR
VERSION:2.0
PRODID:Imitheme.com 
BEGIN:VEVENT
UID:20260421T13064727481293
DTSTAMP;TZID=UTC:2026-04-21 13:06:47
DTSTART;TZID=America/Los_Angeles:20250814T000000
DTEND;TZID=America/Los_Angeles:20250814T000000
SUMMARY:TORNEIG SUPER SMASH BROS &#x1f3ae;
LOCATION:Carrer de Diego Zaforteza\, 7
DESCRIPTION:Ei, smashers! Estau preparats per a donar-ho tot a l’escenari? Arriba el Torneig de Super Smash Bros. Agafa el teu personatge favorit i prepara’t per a repartir KOs com mai.   INSCRIPCIONS
URL:https://espaisjoves.cat/eventer/torneig-super-smash-bros-%f0%9f%8e%ae/
END:VEVENT
END:VCALENDAR
