BEGIN:VCALENDAR
VERSION:2.0
PRODID:Imitheme.com 
BEGIN:VEVENT
UID:20260421T155113177891574
DTSTAMP;TZID=UTC:2026-04-21 15:51:13
DTSTART;TZID=America/Los_Angeles:20250809T000000
DTEND;TZID=America/Los_Angeles:20250809T000000
SUMMARY:FRIENDS & GAMES
LOCATION:Carrer de les Corralasses\, 9. Palma
DESCRIPTION:Vols passar una bona estona i conèixer gent com tu? Vine a aquest horabaixa de jocs pensat per a fer noves amistats, riure i desconnectar. Tindrem jocs per a tots els gusts: ràpids, cooperatius, clàssics i novetats. A mes de molt bon ambient!   INSCRIPCIONS
URL:https://espaisjoves.cat/eventer/friends-games-2/
END:VEVENT
END:VCALENDAR
