BEGIN:VCALENDAR
VERSION:2.0
PRODID:Imitheme.com 
BEGIN:VEVENT
UID:20260421T1729311408471924
DTSTAMP;TZID=UTC:2026-04-21 17:29:31
DTSTART;TZID=America/Los_Angeles:20250807T000000
DTEND;TZID=America/Los_Angeles:20250807T000000
SUMMARY:CONEIX I APRÈN A UTILITZAR EL BUC D'ASSAIG
LOCATION:Carrer Pere d’Alcàntara Penya\, 10. Palma
DESCRIPTION:Vols saber com funciona el Buc d’Assaig? Doncs vine a aquest taller pensat especialment per a tu! Durant l’activitat, t’explicarem com gestionar l’equipament i el seu ús, tant si formes part de l’equip com si ets un usuari interessat a fer-lo servir. A més, aprofitarem per revisar el material disponible i resoldre tots els teus dubtes.     INSCRIPCIONS
URL:https://espaisjoves.cat/eventer/coneix-i-apren-a-utilitzar-el-buc-dassaig-5/
END:VEVENT
END:VCALENDAR
