BEGIN:VCALENDAR
VERSION:2.0
PRODID:Imitheme.com 
BEGIN:VEVENT
UID:20260422T1249401008405621
DTSTAMP;TZID=UTC:2026-04-22 12:49:40
DTSTART;TZID=America/Los_Angeles:20250712T000000
DTEND;TZID=America/Los_Angeles:20250712T000000
SUMMARY:TROBADA NIT DE L’ART
LOCATION:Carrer de les Corralasses\, 9. Palma
DESCRIPTION:
URL:https://espaisjoves.cat/eventer/trobada-nit-de-lart/
END:VEVENT
END:VCALENDAR
