BEGIN:VCALENDAR
VERSION:2.0
PRODID:Imitheme.com 
BEGIN:VEVENT
UID:20260422T1806361466251910
DTSTAMP;TZID=UTC:2026-04-22 18:06:36
DTSTART;TZID=America/Los_Angeles:20250711T000000
DTEND;TZID=America/Los_Angeles:20250711T000000
SUMMARY:TRIVIAL DE VIDEOJOCS
LOCATION:Carrer Pere d’Alcàntara Penya\, 10. Palma
DESCRIPTION:Ets un autèntic gamer? Participa al nostre Trivial de Videojocs i posa a prova els teus coneixements mentre passes un horabaixa divertit amb persones que comparteixen la teva passió pels videojocs. T’hi esperam!       INSCRIPCIONS
URL:https://espaisjoves.cat/eventer/trivial-de-videojocs/
END:VEVENT
END:VCALENDAR
