BEGIN:VCALENDAR
VERSION:2.0
PRODID:Imitheme.com 
BEGIN:VEVENT
UID:20260422T1121452031399997
DTSTAMP;TZID=UTC:2026-04-22 11:21:45
DTSTART;TZID=America/Los_Angeles:20250716T000000
DTEND;TZID=America/Los_Angeles:20250716T000000
SUMMARY:Sessió de cinema – EMOJI: LA PEL·LÍCULA
LOCATION:Carrer de les Corralasses\, 9. Palma
DESCRIPTION:Passa un horabaixa divertit amb nosaltres gaudint d’aquesta aventura plena d’humor, color i personatges que viuen dins del teu mòbil. Vine a veure Emoji: La pel·lícula.   INSCRIPCIONS
URL:https://espaisjoves.cat/eventer/sessio-de-cinema-la-pel%c2%b7licula-dels-emoji/
END:VEVENT
END:VCALENDAR
