BEGIN:VCALENDAR
VERSION:2.0
PRODID:Imitheme.com 
BEGIN:VEVENT
UID:20260422T2303411425525552
DTSTAMP;TZID=UTC:2026-04-22 23:03:41
DTSTART;TZID=America/Los_Angeles:20250703T000000
DTEND;TZID=America/Los_Angeles:20250703T000000
SUMMARY:TALLER DE FOTO I VIDEO BÀSICS AMB SMARTPHONE
LOCATION:Carrer de Felip II\, 19. Palma
DESCRIPTION:Aquest taller està pensat per a tots aquells joves que vulguin aprofitar al màxim el potencial del seu mòbil, fent-hi fotos i vídeos com un professional. Hi aprendrem els principis bàsics de la fotografia, la composició d’imatge i molts de trucs per a fer lluir les vostres fotos i els vídeos com a autèntiques obres d’art! Comptarem amb la presència d’un professional de la imatge que ens guiarà en el taller, que tindrà lloc el dia 3 de juliol.   INSCRIPCIONS
URL:https://espaisjoves.cat/eventer/taller-de-foto-i-video-basics-amb-smartphone/
END:VEVENT
END:VCALENDAR
