BEGIN:VCALENDAR
VERSION:2.0
PRODID:Imitheme.com 
BEGIN:VEVENT
UID:20260423T0109141256631323
DTSTAMP;TZID=UTC:2026-04-23 01:09:14
DTSTART;TZID=America/Los_Angeles:20250709T000000
DTEND;TZID=America/Los_Angeles:20250709T000000
SUMMARY:TOTE BAG: KPOP EDITION
LOCATION:Carrer de les Corralasses\, 9. Palma
DESCRIPTION:T\'agrada el K-pop? Aquest taller és per a tu! Personalitza la teva pròpia tote bag pintada a mà amb dissenys inspirats en els teus membres preferits, frases icòniques i tot l’estil. Recordau inscriviu-vos-hi amb temps, les places són limitades!   INSCRIPCIONS
URL:https://espaisjoves.cat/eventer/tote-bag-kpop-edition/
END:VEVENT
END:VCALENDAR
