BEGIN:VCALENDAR
VERSION:2.0
PRODID:Imitheme.com 
BEGIN:VEVENT
UID:20260423T0110561304927679
DTSTAMP;TZID=UTC:2026-04-23 01:10:56
DTSTART;TZID=America/Los_Angeles:20250705T000000
DTEND;TZID=America/Los_Angeles:20250705T000000
SUMMARY:K-UINA: BINGSU
LOCATION:Carrer de Felip II\, 19. Palma
DESCRIPTION:Amb aquesta calor no hi ha res més bo que un gelat. K-UINA: Bingsu us donarà l’oportunitat d’endinsar-vos en la cultura coreana i aprendre a fer un plat tradicional per a l\'estiu.   INSCRIPCIONS
URL:https://espaisjoves.cat/eventer/k-uina-bingsu/
END:VEVENT
END:VCALENDAR
