BEGIN:VCALENDAR
VERSION:2.0
PRODID:Imitheme.com 
BEGIN:VEVENT
UID:20260423T0055371190984958
DTSTAMP;TZID=UTC:2026-04-23 00:55:37
DTSTART;TZID=America/Los_Angeles:20250705T000000
DTEND;TZID=America/Los_Angeles:20250705T000000
SUMMARY:MURAL COL·LABORATIU: TROBADA DE PINTURA
LOCATION:Carrer de Felip II\, 19. Palma
DESCRIPTION:Un pic per setmana ens reunim per a dissenyar i preparar un mural col·laboratiu al pati de l’Espai Tramuntana! Anima’t a participar-hi!   INSCRIPCIONS
URL:https://espaisjoves.cat/eventer/mural-col%c2%b7laboratiu-trobada-de-pintura/
END:VEVENT
END:VCALENDAR
