BEGIN:VCALENDAR
VERSION:2.0
PRODID:Imitheme.com 
BEGIN:VEVENT
UID:20260422T1959361341669747
DTSTAMP;TZID=UTC:2026-04-22 19:59:36
DTSTART;TZID=America/Los_Angeles:20250704T000000
DTEND;TZID=America/Los_Angeles:20250704T000000
SUMMARY:TORNEIG DE PARXÍS
LOCATION:Carrer de Felip II\, 19. Palma
DESCRIPTION:Vine al nostre Torneig de Parxís! Sol o amb amics, demostra que ets el rei del tauler en un horabaixa ple d’estratègia, emoció i bon ambient.       INSCRIPCIONS
URL:https://espaisjoves.cat/eventer/torneig-de-parxis/
END:VEVENT
END:VCALENDAR
