BEGIN:VCALENDAR
VERSION:2.0
PRODID:Imitheme.com 
BEGIN:VEVENT
UID:20260422T004626573557644
DTSTAMP;TZID=UTC:2026-04-22 00:46:26
DTSTART;TZID=America/Los_Angeles:20250621T000000
DTEND;TZID=America/Los_Angeles:20250621T000000
SUMMARY:&#x1f3ae; TORNEIG DE FIFA! &#x26bd;
LOCATION:Carrer de Diego Zaforteza\, 7
DESCRIPTION:Ets un crack del FIFA? Tens ganes de demostrar les teves habilitats i competir contra altres jugadors? Vine al TORNEIG DE FIFA i gaudeix de bona companyia! 🏆 Format del torneig: - Partits d’eliminació directa / Lligueta + fase final (segons el nombre de participants). - Partits de 4 minuts per part. - Plataforma: . - Equips lliures o seleccions (a decidir entre participants).
URL:https://espaisjoves.cat/eventer/%f0%9f%8e%ae-torneig-de-fifa-%e2%9a%bd-3/
END:VEVENT
END:VCALENDAR
