BEGIN:VCALENDAR
VERSION:2.0
PRODID:Imitheme.com 
BEGIN:VEVENT
UID:20260422T1359001839209168
DTSTAMP;TZID=UTC:2026-04-22 13:59:00
DTSTART;TZID=America/Los_Angeles:20250628T000000
DTEND;TZID=America/Los_Angeles:20250628T000000
SUMMARY:KPOP RANDOM: SURVIVE THE BEAT
LOCATION:Carrer Pere d’Alcàntara Penya\, 10. Palma
DESCRIPTION:Ets fan del K-pop i no pots quedar-te quiet quan sona la teva cançó favorita? Aquest és el teu moment! Vine a ballar i queda entre els tres primers per a obtenir un premi. No importa el teu nivell, només les teves ganes de passar-ho bé!   INSCRIPCIONS
URL:https://espaisjoves.cat/eventer/kpop-random-survive-the-beat/
END:VEVENT
END:VCALENDAR
