BEGIN:VCALENDAR
VERSION:2.0
PRODID:Imitheme.com 
BEGIN:VEVENT
UID:20260422T155047820733260
DTSTAMP;TZID=UTC:2026-04-22 15:50:47
DTSTART;TZID=America/Los_Angeles:20250627T000000
DTEND;TZID=America/Los_Angeles:20250627T000000
SUMMARY:K-UINA: HWACHAE
LOCATION:Carrer de Felip II\, 19. Palma
DESCRIPTION:    INSCRIPCIONS
URL:https://espaisjoves.cat/eventer/k-uina-hwachae/
END:VEVENT
END:VCALENDAR
