BEGIN:VCALENDAR
VERSION:2.0
PRODID:Imitheme.com 
BEGIN:VEVENT
UID:20260422T100450181975774
DTSTAMP;TZID=UTC:2026-04-22 10:04:50
DTSTART;TZID=America/Los_Angeles:20250627T000000
DTEND;TZID=America/Los_Angeles:20250627T000000
SUMMARY:TALLER DE TEATRE, COS I MOVIMENT
LOCATION:Carrer Pere d’Alcàntara Penya\, 10. Palma
DESCRIPTION:🎭 Taller de teatre: Expressa’t i juga! Explora el teu cos, l’espai i la connexió amb els altres 🤸‍♀️👫 amb jocs d’escalfament, desbloqueig i desinhibició. Improvisa, crea i diverteix-te! 🎉✨ No cal experiència prèvia. ⏱️ 18.00 h a 20.00 h 📍 Espai Jove Llevant   INSCRIPCIONS
URL:https://espaisjoves.cat/eventer/taller-de-teatre-cos-i-moviment-4/
END:VEVENT
END:VCALENDAR
