BEGIN:VCALENDAR
VERSION:2.0
PRODID:Imitheme.com 
BEGIN:VEVENT
UID:20260422T0829521516818780
DTSTAMP;TZID=UTC:2026-04-22 08:29:52
DTSTART;TZID=America/Los_Angeles:20250626T000000
DTEND;TZID=America/Los_Angeles:20250626T000000
SUMMARY:&#x1f3ae; TORNEIG DE FIFA! &#x26bd;
LOCATION:Carrer Pere d’Alcàntara Penya\, 10. Palma
DESCRIPTION:Ets un crack del FIFA? Tens ganes de demostrar les teves habilitats i competir contra altres jugadors? Vine al TORNEIG DE FIFA i gaudeix de bona companyia! 🏆 Format del torneig: - Partits d’eliminació directa / Lligueta + fase final (segons el nombre de participants). - Partits de 4 minuts per part. - Plataforma: . - Equips lliures o seleccions (a decidir entre participants).
URL:https://espaisjoves.cat/eventer/%f0%9f%8e%ae-torneig-de-fifa-%e2%9a%bd-4/
END:VEVENT
END:VCALENDAR
