BEGIN:VCALENDAR
VERSION:2.0
PRODID:Imitheme.com 
BEGIN:VEVENT
UID:20260422T0701211634193600
DTSTAMP;TZID=UTC:2026-04-22 07:01:21
DTSTART;TZID=America/Los_Angeles:20250626T000000
DTEND;TZID=America/Los_Angeles:20250626T000000
SUMMARY:FASHION RESCUE
LOCATION:Carrer de Diego Zaforteza\, 7
DESCRIPTION:Tens peces oblidades a l’armari? No les tiris! En aquest taller aprendràs a personalitzar, transformar i rescatar la teva roba amb estil, creativitat i consciència ambiental. La moda sostenible mai ha estat tan divertida!
URL:https://espaisjoves.cat/eventer/fashion-rescue-4/
END:VEVENT
END:VCALENDAR
