BEGIN:VCALENDAR
VERSION:2.0
PRODID:Imitheme.com 
BEGIN:VEVENT
UID:20260422T180059139311968
DTSTAMP;TZID=UTC:2026-04-22 18:00:59
DTSTART;TZID=America/Los_Angeles:20250625T000000
DTEND;TZID=America/Los_Angeles:20250625T000000
SUMMARY:K-DRAMA
LOCATION:Carrer Pere d’Alcàntara Penya\, 10. Palma
DESCRIPTION:No tens cap pla per a aquest horabaixa? Espais Joves en té la solució! Tenim preparada la projecció d’una sèrie coreana a l’Espai Jove Llevant. Si t’agrada el K-Drama i la tertúlia, ja pots apuntar-ho a la teva agenda.   INSCRIPCIONS
URL:https://espaisjoves.cat/eventer/k-drama/
END:VEVENT
END:VCALENDAR
