BEGIN:VCALENDAR
VERSION:2.0
PRODID:Imitheme.com 
BEGIN:VEVENT
UID:20260422T0358541696540118
DTSTAMP;TZID=UTC:2026-04-22 03:58:54
DTSTART;TZID=America/Los_Angeles:20250625T000000
DTEND;TZID=America/Los_Angeles:20250625T000000
SUMMARY:Il·lustració tradicional: acrílics
LOCATION:Carrer de les Corralasses\, 9. Palma
DESCRIPTION:En aquest cicle aprendrem a utilitzar l’acrílic com a tècnica per a fer il·lustració tradicional.   INSCRIPCIONS
URL:https://espaisjoves.cat/eventer/il%c2%b7lustracio-tradicional-acrilics/
END:VEVENT
END:VCALENDAR
