BEGIN:VCALENDAR
VERSION:2.0
PRODID:Imitheme.com 
BEGIN:VEVENT
UID:20260421T182456887252403
DTSTAMP;TZID=UTC:2026-04-21 18:24:56
DTSTART;TZID=America/Los_Angeles:20250619T000000
DTEND;TZID=America/Los_Angeles:20250619T000000
SUMMARY:CONEIX I APRÈN A UTILITZAR EL BUC D'ASSAIG
LOCATION:Carrer de Felip II\, 19. Palma
DESCRIPTION:Vols saber com funciona el Buc d’Assaig? Doncs vine a aquest taller pensat especialment per a tu! Durant l’activitat, t’explicarem com gestionar l’equipament i el seu ús, tant si formes part de l’equip com si ets un usuari interessat a fer-lo servir. A més, aprofitarem per revisar el material disponible i resoldre tots els teus dubtes. Una oportunitat única per connectar amb altres joves apassionats per la música i el so mentre descobreixes tot el que el buc pot oferir-te!     INSCRIPCIONS
URL:https://espaisjoves.cat/eventer/coneix-i-apren-a-utilitzar-el-buc-dassaig-3/
END:VEVENT
END:VCALENDAR
