BEGIN:VCALENDAR
VERSION:2.0
PRODID:Imitheme.com 
BEGIN:VEVENT
UID:20260422T19594721920791
DTSTAMP;TZID=UTC:2026-04-22 19:59:47
DTSTART;TZID=America/Los_Angeles:20250618T000000
DTEND;TZID=America/Los_Angeles:20250618T000000
SUMMARY:ESPAIS ON-AIR: ESPECIAL MEDI AMBIENT &#x1f33f;
LOCATION:
DESCRIPTION:En aquesta edició d’Espais On-Air convidam a joves i entitats que fan feina per la concienciació i divulguació sobre el medi ambient i ecologisme. És avui en dia el medi ambient una preocupació per als joves? Existeixen projectes e iniciatives interessants per part d’aquest col·lectiu? Aquests i molts més temes a l’Especial Media Ambient d’Espais On-Air el proper 18 de juny a partir de les 18h a twitch.tv/espaisjovespalma Us hi esperam!   INSCRIPCIONS
URL:https://espaisjoves.cat/eventer/espais-on-air-especial-medi-ambient-%f0%9f%8c%bf/
END:VEVENT
END:VCALENDAR
