BEGIN:VCALENDAR
VERSION:2.0
PRODID:Imitheme.com 
BEGIN:VEVENT
UID:20260421T1459232136365276
DTSTAMP;TZID=UTC:2026-04-21 14:59:23
DTSTART;TZID=America/Los_Angeles:20250618T000000
DTEND;TZID=America/Los_Angeles:20250618T000000
SUMMARY:KPOP HAMA
LOCATION:Carrer de Diego Zaforteza\, 7
DESCRIPTION:Si t’agrada el K-pop i les manualitats, aquesta és la teva oportunitat per a combinar ambdós mons! T’esperam a l’Espai Jove Litoral!
URL:https://espaisjoves.cat/eventer/kpop-hama-2/
END:VEVENT
END:VCALENDAR
