BEGIN:VCALENDAR
VERSION:2.0
PRODID:Imitheme.com 
BEGIN:VEVENT
UID:20260422T0539041686045888
DTSTAMP;TZID=UTC:2026-04-22 05:39:04
DTSTART;TZID=America/Los_Angeles:20250617T000000
DTEND;TZID=America/Los_Angeles:20250617T000000
SUMMARY:Il·lustració tradicional: acrílics
LOCATION:Carrer de les Corralasses\, 9. Palma
DESCRIPTION:En aquest cicle aprendrem a utilitzar l’acrílic com a tècnica per a fer il·lustració tradicional.   INSCRIPCIONS
URL:https://espaisjoves.cat/eventer/il%c2%b7lustracio-tradicional-acrilics-2/
END:VEVENT
END:VCALENDAR
