BEGIN:VCALENDAR
VERSION:2.0
PRODID:Imitheme.com 
BEGIN:VEVENT
UID:20260421T160904462049127
DTSTAMP;TZID=UTC:2026-04-21 16:09:04
DTSTART;TZID=America/Los_Angeles:20250605T000000
DTEND;TZID=America/Los_Angeles:20250605T000000
SUMMARY:FASHION RESCUE
LOCATION:Carrer de Felip II\, 19. Palma
DESCRIPTION:Tens peces oblidades a l’armari? No les tiris! En aquest taller aprendràs a personalitzar, transformar i rescatar la teva roba amb estil, creativitat i consciència ambiental. La moda sostenible mai ha estat tan divertida!
URL:https://espaisjoves.cat/eventer/fashion-rescue/
END:VEVENT
END:VCALENDAR
