BEGIN:VCALENDAR
VERSION:2.0
PRODID:Imitheme.com 
BEGIN:VEVENT
UID:20260423T1703091566667573
DTSTAMP;TZID=UTC:2026-04-23 17:03:09
DTSTART;TZID=America/Los_Angeles:20250425T000000
DTEND;TZID=America/Los_Angeles:20250425T000000
SUMMARY:TORNEIG MARIO KART &#x1f344;
LOCATION:Carrer de Felip II\, 19. Palma
DESCRIPTION:T’agrada jugar al Mario Kart? Creus que pots arribar a ser el més ràpid/a? Doncs apunta’t al torneig de Mario Kart i vine a gaudir d’un horabaixa ple de curses i diversió! T’hi esperam!   INSCRIPCIONS
URL:https://espaisjoves.cat/eventer/torneig-mario-kart-%f0%9f%8d%84-4/
END:VEVENT
END:VCALENDAR
