BEGIN:VCALENDAR
VERSION:2.0
PRODID:Imitheme.com 
BEGIN:VEVENT
UID:20260423T0920391817834268
DTSTAMP;TZID=UTC:2026-04-23 09:20:39
DTSTART;TZID=America/Los_Angeles:20250410T000000
DTEND;TZID=America/Los_Angeles:20250410T000000
SUMMARY:TALLER DE COSTURA: Iniciació al brodat
LOCATION:Carrer Pere d’Alcàntara Penya\, 10. Palma
DESCRIPTION:Et vols iniciar en el món del brodat? Des d’Espais oferim tallers guiats per a desenvolupar la destresa manual i la creativitat. Apunta-t’hi i descobreix el plaer de la costura!
URL:https://espaisjoves.cat/eventer/taller-de-costura-iniciacio-al-brodat/
END:VEVENT
END:VCALENDAR
