BEGIN:VCALENDAR
VERSION:2.0
PRODID:Imitheme.com 
BEGIN:VEVENT
UID:20260421T130522764800845
DTSTAMP;TZID=UTC:2026-04-21 13:05:22
DTSTART;TZID=America/Los_Angeles:20241130T000000
DTEND;TZID=America/Los_Angeles:20241130T000000
SUMMARY:Inauguració del nostre atelier
LOCATION:Carrer de les Corralasses\, 9. Palma
DESCRIPTION:Atelier: inauguracio del nostre atelier, un espai per als aristes joves on crear, compartir i col·laborar.
URL:https://espaisjoves.cat/eventer/inauguracio-del-nostre-atelier/
END:VEVENT
END:VCALENDAR
