BEGIN:VCALENDAR
VERSION:2.0
PRODID:Imitheme.com 
BEGIN:VEVENT
UID:20260421T120117776229458
DTSTAMP;TZID=UTC:2026-04-21 12:01:17
DTSTART;TZID=America/Los_Angeles:20241129T000000
DTEND;TZID=America/Los_Angeles:20241129T000000
SUMMARY:COZY CRAFTS
LOCATION:Carrer Pere d’Alcàntara Penya\, 10. Palma
DESCRIPTION:T’agraden les manualitats i vols un espai per a crear,  compartir i col·laborar amb altres joves? Vine a l’horabaixa cozy crafts del Centre Llevant.
URL:https://espaisjoves.cat/eventer/cozy-crafts/
END:VEVENT
END:VCALENDAR
