BEGIN:VCALENDAR
VERSION:2.0
PRODID:Imitheme.com 
BEGIN:VEVENT
UID:20260421T1324241342516342
DTSTAMP;TZID=UTC:2026-04-21 13:24:24
DTSTART;TZID=America/Los_Angeles:20241113T000000
DTEND;TZID=America/Los_Angeles:20241113T000000
SUMMARY:K-uina: Mandus
LOCATION:Carrer de Pere Ripoll  i Palou\,  24
DESCRIPTION:Vine a fer mandus, unes panadetes coreanes.
URL:https://espaisjoves.cat/eventer/k-uina-mandus/
END:VEVENT
END:VCALENDAR
