BEGIN:VCALENDAR
VERSION:2.0
PRODID:Imitheme.com 
BEGIN:VEVENT
UID:20260421T0855222111996116
DTSTAMP;TZID=UTC:2026-04-21 08:55:22
DTSTART;TZID=America/Los_Angeles:20241031T000000
DTEND;TZID=America/Los_Angeles:20241031T000000
SUMMARY:Creació de disfresses 2 + com escurçar baixos de calçons
LOCATION:Carrer Pere d’Alcàntara Penya\, 10. Palma
DESCRIPTION:
URL:https://espaisjoves.cat/eventer/creacio-de-disfresses-2-com-escurcar-baixos-de-calcons/
END:VEVENT
END:VCALENDAR
