BEGIN:VCALENDAR
VERSION:2.0
PRODID:Imitheme.com 
BEGIN:VEVENT
UID:20260421T101721851859088
DTSTAMP;TZID=UTC:2026-04-21 10:17:21
DTSTART;TZID=America/Los_Angeles:20241010T000000
DTEND;TZID=America/Los_Angeles:20241010T000000
SUMMARY:Creació de disfresses + com canviar cremalleres
LOCATION:Carrer Pere d’Alcàntara Penya\, 10. Palma
DESCRIPTION:
URL:https://espaisjoves.cat/eventer/creacio-de-disfresses-com-canviar-cremalleres/
END:VEVENT
END:VCALENDAR
