BEGIN:VCALENDAR
VERSION:2.0
PRODID:Imitheme.com 
BEGIN:VEVENT
UID:20260424T085928468776174
DTSTAMP;TZID=UTC:2026-04-24 08:59:28
DTSTART;TZID=America/Los_Angeles:20240314T000000
DTEND;TZID=America/Los_Angeles:20240314T000000
SUMMARY:SWITCH ON: “1-2- SWITCH"
LOCATION:Carrer de Diego Zaforteza\, 7
DESCRIPTION:Vine a passar un horabaixa ple de proves divertides, diferents i úniques, en què podràs desafiar la resta de participants per a aconseguir la victòria.
URL:https://espaisjoves.cat/eventer/switch-on-1-2-switch/
END:VEVENT
END:VCALENDAR
