BEGIN:VCALENDAR
VERSION:2.0
PRODID:Imitheme.com 
BEGIN:VEVENT
UID:20260425T022925531882424
DTSTAMP;TZID=UTC:2026-04-25 02:29:25
DTSTART;TZID=America/Los_Angeles:20240127T000000
DTEND;TZID=America/Los_Angeles:20240127T000000
SUMMARY:MEET AND GREET: F-AEMINAS. Twitch
LOCATION:
DESCRIPTION:Un espai en línia on conèixer més els grups que ballen als Espais Joves. Aquest mes serà F-aeminas, un grup relativament nou, però que avança amb passes fermes.   A Twitch.
URL:https://espaisjoves.cat/eventer/meet-and-greet-f-aeminas-twitch/
END:VEVENT
END:VCALENDAR
