BEGIN:VCALENDAR
VERSION:2.0
PRODID:Imitheme.com 
BEGIN:VEVENT
UID:20260425T0408521405177079
DTSTAMP;TZID=UTC:2026-04-25 04:08:52
DTSTART;TZID=America/Los_Angeles:20240125T000000
DTEND;TZID=America/Los_Angeles:20240125T000000
SUMMARY:MEET AND GREET: "MAKORE". Twitch.
LOCATION:
DESCRIPTION:Coneix al grup de música de rock alternatiu en aquesta entrevista que es farà a Twitch.
URL:https://espaisjoves.cat/eventer/meet-and-greet-makore-twitch/
END:VEVENT
END:VCALENDAR
