BEGIN:VCALENDAR
VERSION:2.0
PRODID:Imitheme.com 
BEGIN:VEVENT
UID:20260425T122034390064869
DTSTAMP;TZID=UTC:2026-04-25 12:20:34
DTSTART;TZID=America/Los_Angeles:20240110T000000
DTEND;TZID=America/Los_Angeles:20240110T000000
SUMMARY:SPACE GAME: “AZTECAS VS. ALIENÍGENAS”
LOCATION:Carrer Pere d’Alcàntara Penya\, 10. Palma
DESCRIPTION:Un joc de cartes on el poble asteca és atacat per invasors alienígenes. Aconseguireu protegir-lo dels atacs dels plats voladors?
URL:https://espaisjoves.cat/eventer/space-game-aztecas-vs-alienigenas/
END:VEVENT
END:VCALENDAR
