BEGIN:VCALENDAR
VERSION:2.0
PRODID:Imitheme.com 
BEGIN:VEVENT
UID:20260425T0235201444243516
DTSTAMP;TZID=UTC:2026-04-25 02:35:20
DTSTART;TZID=America/Los_Angeles:20240117T000000
DTEND;TZID=America/Los_Angeles:20240117T000000
SUMMARY:ESPECIAL SANT SEBASTIÀ: EQUIPA’T PER A LA LLONGUETADA
LOCATION:Carrer Pere d’Alcàntara Penya\, 10. Palma
DESCRIPTION:Encara no tens el teu mocador per a Sant Sebastià? Acosta’t a un dels Espais per a crear el teu i completa el teu outfit per a la Llonguetada Jove.
URL:https://espaisjoves.cat/eventer/especial-sant-sebastia-equipat-per-a-la-llonguetada-5/
END:VEVENT
END:VCALENDAR
