BEGIN:VCALENDAR
VERSION:2.0
PRODID:Imitheme.com 
BEGIN:VEVENT
UID:20260425T0231281158478517
DTSTAMP;TZID=UTC:2026-04-25 02:31:28
DTSTART;TZID=America/Los_Angeles:20240116T000000
DTEND;TZID=America/Los_Angeles:20240116T000000
SUMMARY:ESPECIAL SANT SEBASTIÀ: EQUIPA’T PER A LA LLONGUETADA
LOCATION:Carrer de les Corralasses\, 9. Palma
DESCRIPTION:Encara no tens el teu mocador per a Sant Sebastià? Acosta’t a un dels Espais per a crear el teu i completa el teu outfit per a la Llonguetada Jove.
URL:https://espaisjoves.cat/eventer/especial-sant-sebastia-equipat-per-a-la-llonguetada-4/
END:VEVENT
END:VCALENDAR
