BEGIN:VCALENDAR
VERSION:2.0
PRODID:Imitheme.com 
BEGIN:VEVENT
UID:20260423T2135452104284075
DTSTAMP;TZID=UTC:2026-04-23 21:35:45
DTSTART;TZID=America/Los_Angeles:20240531T000000
DTEND;TZID=America/Los_Angeles:20240531T000000
SUMMARY:CUINA ASIÀTICA: “BULGOGI”
LOCATION:Carrer de Felip II\, 19. Palma
DESCRIPTION:El taller de cuina asiàtica ensenya als participants a preparar aquest plat coreà típic proporcionant instruccions pas a pas.  
URL:https://espaisjoves.cat/eventer/cuina-asiatica-bulgogi/
END:VEVENT
END:VCALENDAR
