BEGIN:VCALENDAR
VERSION:2.0
PRODID:Imitheme.com 
BEGIN:VEVENT
UID:20260423T1208381413096912
DTSTAMP;TZID=UTC:2026-04-23 12:08:38
DTSTART;TZID=America/Los_Angeles:20240522T000000
DTEND;TZID=America/Los_Angeles:20240522T000000
SUMMARY:TALLER D’AQUAREL·LA CREATIVA
LOCATION:Carrer de Pere Ripoll  i Palou\,  24
DESCRIPTION:Si t\'agrada l\'art, vine a conèixer aquest nou cicle d\'aquarel·la silvestre, on podràs aprendre noves tècniques, fomentar la teva creativitat i socialitzar amb joves amb els mateixos interessos que tu!
URL:https://espaisjoves.cat/eventer/taller-daquarel%c2%b7la-creativa/
END:VEVENT
END:VCALENDAR
