BEGIN:VCALENDAR
VERSION:2.0
PRODID:Imitheme.com 
BEGIN:VEVENT
UID:20260423T135627417040615
DTSTAMP;TZID=UTC:2026-04-23 13:56:27
DTSTART;TZID=America/Los_Angeles:20240522T000000
DTEND;TZID=America/Los_Angeles:20240522T000000
SUMMARY:JAM SESSION PER A MÚSICS
LOCATION:Carrer de Felip II\, 19. Palma
DESCRIPTION:Trobada per a joves músics. Veniu a passar un horabaixa on podreu conèixer altres persones i compartir-hi els vostres coneixements i gustos musicals.
URL:https://espaisjoves.cat/eventer/jam-session-3/
END:VEVENT
END:VCALENDAR
