BEGIN:VCALENDAR
VERSION:2.0
PRODID:Imitheme.com 
BEGIN:VEVENT
UID:20260423T1355341682849882
DTSTAMP;TZID=UTC:2026-04-23 13:55:34
DTSTART;TZID=America/Los_Angeles:20240525T000000
DTEND;TZID=America/Los_Angeles:20240525T000000
SUMMARY:SPACE GAME: “POLLO VS PERRITO”
LOCATION:Carrer Pere d’Alcàntara Penya\, 10. Palma
DESCRIPTION:El joc Pollo vs Perrito és el seleccionat d\'aquest mes perquè les persones usuàries d’Espais Joves puguin gaudir i aprendre d\'un joc de cartes nou, en tots els casals. En el joc les persones han de competir, en solitari o en equips, per a veure qui és millor, en Pollo o en Perrito, girant una carta a l\'atzar, licitant per a completar el repte de la carta i guanyar la licitació, voltejant amb el ca i el canet, i segons el que digui la carta.
URL:https://espaisjoves.cat/eventer/space-game-pollo-vs-perrito/
END:VEVENT
END:VCALENDAR
