BEGIN:VCALENDAR
VERSION:2.0
PRODID:Imitheme.com 
BEGIN:VEVENT
UID:20260423T122747931794763
DTSTAMP;TZID=UTC:2026-04-23 12:27:47
DTSTART;TZID=America/Los_Angeles:20240524T000000
DTEND;TZID=America/Los_Angeles:20240524T000000
SUMMARY:CUINA FRIQUI: “ESPECIAL NÀRNIA”
LOCATION:Carrer de Diego Zaforteza\, 7
DESCRIPTION:Per a gaudir més del May Be Freak, t’oferim l\'oportunitat d\'aprendre a preparar unes receptes típiques del món de Nàrnia.
URL:https://espaisjoves.cat/eventer/cuina-friqui-especial-narnia/
END:VEVENT
END:VCALENDAR
