BEGIN:VCALENDAR
VERSION:2.0
PRODID:Imitheme.com 
BEGIN:VEVENT
UID:20260423T1523321420593333
DTSTAMP;TZID=UTC:2026-04-23 15:23:32
DTSTART;TZID=America/Los_Angeles:20240518T000000
DTEND;TZID=America/Los_Angeles:20240518T000000
SUMMARY:MAY BE FREAK
LOCATION:Carrer Pere d’Alcàntara Penya\, 10. Palma
DESCRIPTION:El pròxim 18 de maig els Espais Joves celebren el May Be Freak. Durant aquest dia, a l’Espai Jove Llevant es duran a terme diferents activitats amb temàtica friqui, incloent-hi diversos camps com són els videojocs, els jocs de taula, els còmics, l’anime o manga, i la ciència-ficció. Amb l\'objectiu de facilitar un espai perquè la comunitat friqui de l’illa pugui expressar-se i tenir un punt de trobada, amb diferents activitats dirigides, que abracen diferents modalitats, el Servei Espais Joves de l’Ajuntament de Palma se suma a les activitats organitzades amb motiu del dia d’Star Wars, l’Orgull Friqui 2024 i el Dia Internacional del Joc.  
URL:https://espaisjoves.cat/eventer/may-be-freak-2/
END:VEVENT
END:VCALENDAR
