BEGIN:VCALENDAR
VERSION:2.0
PRODID:Imitheme.com 
BEGIN:VEVENT
UID:20260423T170201332248655
DTSTAMP;TZID=UTC:2026-04-23 17:02:01
DTSTART;TZID=America/Los_Angeles:20240517T000000
DTEND;TZID=America/Los_Angeles:20240517T000000
SUMMARY:TALLER 3R: “COSTURA AMB MATERIAL RECICLAT
LOCATION:Carrer Pere d’Alcàntara Penya\, 10. Palma
DESCRIPTION:Vols aprendre a donar una segona vida a la teva roba? Du la que ja no utilitzis i sortiràs amb un nou outfit.
URL:https://espaisjoves.cat/eventer/taller-3r-costura-amb-material-reciclat/
END:VEVENT
END:VCALENDAR
