BEGIN:VCALENDAR
VERSION:2.0
PRODID:Imitheme.com 
BEGIN:VEVENT
UID:20260423T1845382044715829
DTSTAMP;TZID=UTC:2026-04-23 18:45:38
DTSTART;TZID=America/Los_Angeles:20240516T000000
DTEND;TZID=America/Los_Angeles:20240516T000000
SUMMARY:ENERGY CONTROL: SAPS GAUDIR DE L’OCI DE FORMA SEGURA?
LOCATION:Carrer de Felip II\, 19. Palma
DESCRIPTION:L’Associació Energy Control vindrà el pròxim dia 16 per a explicar-nos formes segures de gaudir de l’oci i minimitzar el riscs que se’n deriven.
URL:https://espaisjoves.cat/eventer/energy-control-saps-gaudir-de-loci-de-forma-segura/
END:VEVENT
END:VCALENDAR
