BEGIN:VCALENDAR
VERSION:2.0
PRODID:Imitheme.com 
BEGIN:VEVENT
UID:20260423T2010311351236592
DTSTAMP;TZID=UTC:2026-04-23 20:10:31
DTSTART;TZID=America/Los_Angeles:20240515T000000
DTEND;TZID=America/Los_Angeles:20240515T000000
SUMMARY:GASTRONOMIA ITALIANA: SARDENYA
LOCATION:Carrer de Pere Ripoll  i Palou\,  24
DESCRIPTION:Aquesta activitat ofereix una experiència immersiva en la cuina d\'Itàlia. Aprèn a preparar plats emblemàtics, utilitzant ingredients frescos i tècniques autèntiques transmeses de generació en generació.
URL:https://espaisjoves.cat/eventer/gastronomia-italiana-sardenya/
END:VEVENT
END:VCALENDAR
