BEGIN:VCALENDAR
VERSION:2.0
PRODID:Imitheme.com 
BEGIN:VEVENT
UID:20260421T1131481730738077
DTSTAMP;TZID=UTC:2026-04-21 11:31:48
DTSTART;TZID=America/Los_Angeles:20240411T000000
DTEND;TZID=America/Los_Angeles:20240411T000000
SUMMARY:SPACE GAME: DISC COVER
LOCATION:Carrer de Diego Zaforteza\, 7
DESCRIPTION:Si t’agrada la música vine a conèixer aquest nou joc d’espais on podràs demostrar les teves habilitats musicals elegint la millor portada per a cada cançó!!
URL:https://espaisjoves.cat/eventer/space-game-disc-cover-2/
END:VEVENT
END:VCALENDAR
