BEGIN:VCALENDAR
VERSION:2.0
PRODID:Imitheme.com 
BEGIN:VEVENT
UID:20260421T143258918187085
DTSTAMP;TZID=UTC:2026-04-21 14:32:58
DTSTART;TZID=America/Los_Angeles:20240405T000000
DTEND;TZID=America/Los_Angeles:20240405T000000
SUMMARY:TALLER DE MARXANDATGE PER A GRUPS DE MÚSICA
LOCATION:Carrer de Pere Ripoll  i Palou\,  24
DESCRIPTION:En aquest taller podreu crear diferents objectes identificats amb la imatge del vostre grup de música
URL:https://espaisjoves.cat/eventer/taller-de-marxandatge-per-a-grups-de-musica-2/
END:VEVENT
END:VCALENDAR
